BEGIN:VCALENDAR
VERSION:2.0
PRODID:-//New Brunswick Theological Seminary - ECPv4.6//NONSGML v1.0//EN
CALSCALE:GREGORIAN
METHOD:PUBLISH
X-WR-CALNAME:New Brunswick Theological Seminary
X-ORIGINAL-URL:https://nbts.edu
X-WR-CALDESC:Events for New Brunswick Theological Seminary
BEGIN:VEVENT
DTSTART;TZID=America/New_York:20230128T093000
DTEND;TZID=America/New_York:20230128T160000
DTSTAMP:20260423T113300
CREATED:20221213T154701Z
LAST-MODIFIED:20230124T165911Z
UID:8829-1674898200-1674921600@nbts.edu
SUMMARY:"Iron Sharpens Iron" NBTS Alumni Association Clergy Skills Workshop
DESCRIPTION:“As iron sharpens iron\, so one person sharpens another.” (Proverbs 27:17 NIV) \nJanuary 28th 2022 – Hybrid Format (In Person and Zoom)\n35 Seminary Pl New Brunswick NJ \nPlease join us either in person or on zoom – the event is free\, but registration is required:  \nTo register to attend in-person\, click here.\nTo register to attend via zoom\, click here.\nEvent Purpose:\nTo strengthen alumni ties through a showcase of notable NBTS clergy experiences. Speakers and panelists will talk about key topics in their field of ministry from a personal perspective\, opening the door for networking\, mentorship\, and collaboration through sharing of mutual experiences.  \nStructure:\nOpening session followed by 4 workshop presentations throughout the day. Each session consists of 45 mins of presentation time with 15 mins of Q&A.\nAdditional time for in-person and online networking should be available after / between sessions.\nEach session will have 1-3 speakers\, plus a moderator to guide the conversation. \nSchedule for the day\n\n\n\nTime Slot (Eastern Time)\nActivity\n\n\n\n9:00am-9:30am \n\nIn-person Registration\n\n\n\n9:30am-9:50am \n\nOpening Worship\n\n\n\n9:50am-10:00am \n\n\nBreak & Networking \n\n\n\n\n10:00am-11:00am \n\n\nChaplaincy & Self-Care \n\n\n\n\n11:00am-11:10am \n\n\nBreak & Networking \n\n\n\n\n11:10am-12:10pm \n\n\nPost-Pandemic Evangelism \n\n\n\n\n12:10pm-12:45pm \n\n\nLunch \n\n\n\n\n12:45pm-12:50pm \n\n\nRe-introduction of Alumni Association \n\n\n\n\n12:50pm-1:50pm \n\n\nSocial Justice / Political Action \n\n\n\n\n1:50pm-2:00pm \n\n\nBreak & Networking \n\n\n\n\n2:00pm-3:00pm \n\n\nPreaching to Congregations in Times of Change \n\n\n\n\n  \n
URL:https://nbts.edu/events/alumni-association-iron-sharpens-iron-ministry-skills-workshop/
LOCATION:35 SEMINARY PLACE\, NEW BRUNSWICK\, NJ\, 08901\, United States
CATEGORIES:Alumni
ATTACH;FMTTYPE=image/png:https://nbts.edu/wp-content/uploads/2022/12/NBTS-Alumni-Iron-Sharpens-Iron-Event-v3.png
END:VEVENT
END:VCALENDAR